BEGIN:VCALENDAR
VERSION:2.0
PRODID:-//ChamberMaster//Event Calendar 2.0//EN
METHOD:PUBLISH
X-PUBLISHED-TTL:P3D
REFRESH-INTERVAL:P3D
CALSCALE:GREGORIAN
BEGIN:VEVENT
DTSTART:20260504T120000Z
DTEND:20260504T190000Z
X-MICROSOFT-CDO-ALLDAYEVENT:FALSE
SUMMARY:VNA of Florida's 32nd Annual Charity Golf Tournament
DESCRIPTION:Celebrate a legacy of care at the 32nd Annual VNA of Florida Charity Golf Tournament\, proudly presented by DUNN Capital Management!\n\n \n\nThis year is extra special as we mark 50 years of the Visiting Nurse Association of Florida serving our community. Join us on the green for a day of premier golf\, networking\, and high-impact giving.\n\n \n\nYour support does more than just provide a day of golf. Proceeds from this year's tournament directly fund:\n\n-Indigent Care: Ensuring our community has access to the essential healthcare they deserve.\n\n-The Nightingale Express: Our mobile medical clinic providing care to those in need.\n\n-Nursing Scholarships: Investing in the next generation of healthcare heroes.\n\n \n\nEvent Details:\n\nDate:\n\nMonday\, May 4\, 2026\n\nLocation:\n\nTrump National Golf Club\, Jupiter\n\nTime:\n\n-8:00 am Registration\n\n-8:30 am Breakfast\n\n-9:30 am Shotgun Start\n\n-1:30 pm Lunch & Awards Reception\n\n \n\nSpecial 50th Anniversary Sponsorships:\n\nTo celebrate our half-century of service\, we have unveiled exclusive\, one-time sponsorship opportunities that offer unique visibility and benefits. Secure your spot in VNA history!\n\n \n\nInterested in playing or sponsoring?\n\nFor more details https://vnaflorida.org/event-details/details/6/charity-golf-tournament and to learn about our unique 50th-anniversary packages\, please email aleisha.coleman@vnaflorida.org.
X-ALT-DESC;FMTTYPE=text/html:<div>Celebrate a legacy of care at the 32nd Annual VNA of Florida Charity Golf Tournament\, proudly presented by DUNN Capital Management!<br />\n&nbsp\;</div>\n\n<div>This year is extra special as we mark 50 years of the Visiting Nurse Association of Florida serving our community. Join us on the green for a day of premier golf\, networking\, and high-impact giving.<br />\n&nbsp\;</div>\n\n<div>Your support does more than just provide a day of golf. Proceeds from this year&rsquo\;s tournament directly fund:<br />\n-Indigent Care: Ensuring our community has access to the essential healthcare they deserve.<br />\n-The Nightingale Express: Our mobile medical clinic providing care to those in need.<br />\n-Nursing Scholarships: Investing in the next generation of healthcare heroes.<br />\n&nbsp\;</div>\n\n<div>Event Details:</div>\n\n<div>Date:<br />\nMonday\, May 4\, 2026</div>\n\n<div>Location:<br />\nTrump National Golf Club\, Jupiter</div>\n\n<div>Time:<br />\n-8:00 am Registration<br />\n-8:30 am Breakfast<br />\n-9:30 am Shotgun Start<br />\n-1:30 pm Lunch &amp\; Awards Reception<br />\n&nbsp\;</div>\n\n<div>Special 50th Anniversary Sponsorships:<br />\nTo celebrate our half-century of service\, we have unveiled exclusive\, one-time sponsorship opportunities that offer unique visibility and benefits. Secure your spot in VNA history!<br />\n&nbsp\;</div>\n\n<div>Interested in playing or sponsoring?<br />\nFor more details https://vnaflorida.org/event-details/details/6/charity-golf-tournament and to learn about our unique 50th-anniversary packages\, please email aleisha.coleman@vnaflorida.org.&nbsp\;</div>\n
LOCATION:Trump National Golf Club\, Jupiter 106 Bears Club Drive Jupiter\, FL 33477
UID:e.3209.17922
SEQUENCE:3
DTSTAMP:20260420T151714Z
URL:https://business.stuartmartinchamber.org/events/details/vna-of-florida-s-32nd-annual-charity-golf-tournament-17922
END:VEVENT

END:VCALENDAR
