BEGIN:VCALENDAR
VERSION:2.0
PRODID:-//ChamberMaster//Event Calendar 2.0//EN
METHOD:PUBLISH
X-PUBLISHED-TTL:P3D
REFRESH-INTERVAL:P3D
CALSCALE:GREGORIAN
BEGIN:VEVENT
DTSTART:20211126T150000Z
DTEND:20211128T220000Z
X-MICROSOFT-CDO-ALLDAYEVENT:FALSE
SUMMARY:Vietnam and War on Terrorism Memorial Wall
DESCRIPTION:Honoring the Fallen Heroes of The Vietnam War\, Iraq\, Operation Iraqi Freedom\, Operation New Dawn\, Afghanistan\, Operation Freedom Sentinel\, Operation Inherent Resolve\, Operation Enduring Freedomand Operation Red Wings
X-ALT-DESC;FMTTYPE=text/html:Honoring the Fallen Heroes of The Vietnam War\, Iraq\, Operation Iraqi Freedom\, Operation New Dawn\, Afghanistan\, Operation Freedom Sentinel\, Operation Inherent Resolve\, Operation Enduring Freedomand Operation Red Wings
LOCATION:Elliott Museum 825 NE Ocean Boulevard\, Stuart\, FL 34996
UID:e.3209.9481
SEQUENCE:3
DTSTAMP:20260422T102716Z
URL:https://business.stuartmartinchamber.org/events/details/vietnam-and-war-on-terrorism-memorial-wall-9481
END:VEVENT

END:VCALENDAR
