BEGIN:VCALENDAR
VERSION:2.0
PRODID:-//ChamberMaster//Event Calendar 2.0//EN
METHOD:PUBLISH
X-PUBLISHED-TTL:P3D
REFRESH-INTERVAL:P3D
CALSCALE:GREGORIAN
BEGIN:VEVENT
DTSTART:20211104T160000Z
DTEND:20211121T170000Z
X-MICROSOFT-CDO-ALLDAYEVENT:FALSE
SUMMARY:The Barn Theatre Presents A Comedy\, "Let's Murder Marsha"
DESCRIPTION:The riotously funny smash hit\, "Let's Murder Marsha\," will delight audiences with laughter galore and comedic situations. This topsy-turvy comedy about half-truths and misunderstandings finds a very loving husband planning a surprise birthday party for his wife\, Marsha\, who is an avid murder mystery reader. But she mistakenly thinks the surprise will be her own murder. So she decides to turn the tables on him by concocting her own loving poison potion. One can only imagine the mischief they get into when her husband finds out about her plan and decides to teach her a lesson by actually pretending to be a murderer.
X-ALT-DESC;FMTTYPE=text/html:The riotously funny smash hit\, &ldquo\;Let&#39\;s Murder Marsha\,&rdquo\; will delight audiences with laughter galore and comedic situations. This topsy-turvy comedy about half-truths and misunderstandings finds a very loving husband planning a surprise birthday party for his wife\, Marsha\, who is an avid murder mystery reader. But she mistakenly thinks the surprise will be her own murder. So she decides to turn the tables on him by concocting her own loving poison potion. One can only imagine the mischief they get into when her husband finds out about her plan and decides to teach her a lesson by actually pretending to be a murderer.
LOCATION:The Barn Theatre 2400 SE Ocean Blvd Stuart\, Fl. 34995
UID:e.3209.9476
SEQUENCE:3
DTSTAMP:20260422T104226Z
URL:https://business.stuartmartinchamber.org/events/details/the-barn-theatre-presents-a-comedy-let-s-murder-marsha-9476
END:VEVENT

END:VCALENDAR
