BEGIN:VCALENDAR
VERSION:2.0
PRODID:-//ChamberMaster//Event Calendar 2.0//EN
METHOD:PUBLISH
X-PUBLISHED-TTL:P3D
REFRESH-INTERVAL:P3D
CALSCALE:GREGORIAN
BEGIN:VEVENT
DTSTART:20260509T121500Z
DTEND:20260509T220000Z
X-MICROSOFT-CDO-ALLDAYEVENT:FALSE
SUMMARY:Pickle for Paws
DESCRIPTION:The Humane Society of the Treasure Coast is hosting its 4th annual Pickleball Charity Event where players will hit the courts in Men's Doubles\, Women's Doubles\, and Mixed Doubles divisions\, enter a raffle\, bid in a silent auction\, and meet some adoptable pups from the shelter.
X-ALT-DESC;FMTTYPE=text/html:The Humane Society of the Treasure Coast is hosting its 4th annual Pickleball Charity Event where players will hit the courts in Men&#39\;s Doubles\, Women&#39\;s Doubles\, and Mixed Doubles divisions\, enter a raffle\, bid in a silent auction\, and meet some adoptable pups from the shelter.
LOCATION:Harbour Ridge\, 13500 NW Gilson Rd\, Palm City\, FL 34990
UID:e.3209.19266
SEQUENCE:3
DTSTAMP:20260420T150937Z
URL:https://business.stuartmartinchamber.org/events/details/pickle-for-paws-19266
END:VEVENT

END:VCALENDAR
