BEGIN:VCALENDAR
VERSION:2.0
PRODID:-//ChamberMaster//Event Calendar 2.0//EN
METHOD:PUBLISH
X-PUBLISHED-TTL:P3D
REFRESH-INTERVAL:P3D
CALSCALE:GREGORIAN
BEGIN:VEVENT
DTSTART:20211103T213000Z
DTEND:20211103T233000Z
X-MICROSOFT-CDO-ALLDAYEVENT:FALSE
SUMMARY:Palm Room Gallery November/ December Exhibit OpeningNov
DESCRIPTION:The Martin Artisan Guild has a very happenin'  November/December Exhibit. Join us for the Opening Reception November 3rd from 5:30-7:30 pm in the Palm Room Art Gallery & Artisans Boutique. Those who attend will see new art featuring 11 of our talented\, local professional artists\, who will be on hand to meet and greet the attendees. The opening will also provide live music\, appetizers\, and a cash bar. This exhibit will be up from November 3rd until December 31st and is open Tues-Sat from 12-6pm\, (except holidays). Our November/December Exhibit participating artists include: Carla Cope\, Diana Rell Dean\, Dot Galfond\, Jacquelyn Roesch-Sanchez\, James J DeMartis\, Jeanine Baum\, Kim Beltrame\, Laura Kay Darvill Whiticar\, Lynn Morgan\, Mark Stall\, and Torenzo Gann. Come and enjoy beautiful artworks and support the visual arts of Martin County!
X-ALT-DESC;FMTTYPE=text/html:The Martin Artisan Guild has a very happenin&rsquo\;&hellip\; November/December Exhibit. Join us for the Opening Reception November 3rd from 5:30-7:30 pm in the Palm Room Art Gallery &amp\; Artisans Boutique. Those who attend will see new art featuring 11 of our talented\, local professional artists\, who will be on hand to meet and greet the attendees. The opening will also provide live music\, appetizers\, and a cash bar. This exhibit will be up from November 3rd until December 31st and is open Tues-Sat from 12-6pm\, (except holidays). Our November/December Exhibit participating artists include: Carla Cope\, Diana Rell Dean\, Dot Galfond\, Jacquelyn Roesch-Sanchez\, James J DeMartis\, Jeanine Baum\, Kim Beltrame\, Laura Kay Darvill Whiticar\, Lynn Morgan\, Mark Stall\, and Torenzo Gann. Come and enjoy beautiful artworks and support the visual arts of Martin County!
LOCATION:The Palm Room Gallery and Artisans Boutique is located at 3746 SE Ocean Blvd\, Harbour Bay Plaza\, Sewall's Point\, FL.
UID:e.3209.9469
SEQUENCE:3
DTSTAMP:20260422T104252Z
URL:https://business.stuartmartinchamber.org/events/details/palm-room-gallery-november-december-exhibit-openingnov-9469
END:VEVENT

END:VCALENDAR
