BEGIN:VCALENDAR
VERSION:2.0
PRODID:-//ChamberMaster//Event Calendar 2.0//EN
METHOD:PUBLISH
X-PUBLISHED-TTL:P3D
REFRESH-INTERVAL:P3D
CALSCALE:GREGORIAN
BEGIN:VEVENT
DTSTART:20230211T010000Z
DTEND:20230211T030000Z
X-MICROSOFT-CDO-ALLDAYEVENT:FALSE
SUMMARY:Motowners Ladies at The Barn Theatre
DESCRIPTION:The Motowners Ladies perform classic Motown\, R&B\, and Pop hit songs featuring tributes to such legends as The Supremes\, Martha and the Vandellas\, The Shirelles\, The Marvelettes\, Gloria Gaynor\, Donna Summer\, and more. Tickets now on sale. Call 772-287-4884 or www.barn-theatre.com
X-ALT-DESC;FMTTYPE=text/html:The Motowners Ladies perform classic Motown\, R&amp\;B\, and Pop hit songs featuring tributes to such legends as The Supremes\, Martha and the Vandellas\, The Shirelles\, The Marvelettes\, Gloria Gaynor\, Donna Summer\, and more. Tickets now on sale. Call 772-287-4884 or www.barn-theatre.com
LOCATION:The Barn Theatre 2400 SE Ocean BLVD Stuart\, Fl 34995
UID:e.3209.12790
SEQUENCE:3
DTSTAMP:20260419T151904Z
URL:https://business.stuartmartinchamber.org/events/details/motowners-ladies-at-the-barn-theatre-12790
END:VEVENT

END:VCALENDAR
