BEGIN:VCALENDAR
VERSION:2.0
PRODID:-//ChamberMaster//Event Calendar 2.0//EN
METHOD:PUBLISH
X-PUBLISHED-TTL:P3D
REFRESH-INTERVAL:P3D
CALSCALE:GREGORIAN
BEGIN:VEVENT
DTSTART:20100510T154500Z
DTEND:20100510T170000Z
X-MICROSOFT-CDO-ALLDAYEVENT:FALSE
SUMMARY:May 12\, 2010 Luncheon
DESCRIPTION:Crystal Reception Hall
X-ALT-DESC;FMTTYPE=text/html:Crystal Reception Hall
LOCATION:
UID:e.3209.326
SEQUENCE:3
DTSTAMP:20260423T101808Z
URL:https://business.stuartmartinchamber.org/events/details/may-12-2010-luncheon-05-10-2010-326
END:VEVENT

END:VCALENDAR
