BEGIN:VCALENDAR
VERSION:2.0
PRODID:-//ChamberMaster//Event Calendar 2.0//EN
METHOD:PUBLISH
X-PUBLISHED-TTL:P3D
REFRESH-INTERVAL:P3D
CALSCALE:GREGORIAN
BEGIN:VEVENT
DTSTART:20060508T154500Z
DTEND:20060508T170000Z
X-MICROSOFT-CDO-ALLDAYEVENT:FALSE
SUMMARY:May 10th\, 2006 Luncheon
DESCRIPTION:Bonefish Grill
X-ALT-DESC;FMTTYPE=text/html:Bonefish Grill
LOCATION:
UID:e.3209.269
SEQUENCE:3
DTSTAMP:20260422T022741Z
URL:https://business.stuartmartinchamber.org/events/details/may-10th-2006-luncheon-05-08-2006-269
END:VEVENT

END:VCALENDAR
