BEGIN:VCALENDAR
VERSION:2.0
PRODID:-//ChamberMaster//Event Calendar 2.0//EN
METHOD:PUBLISH
X-PUBLISHED-TTL:P3D
REFRESH-INTERVAL:P3D
CALSCALE:GREGORIAN
BEGIN:VEVENT
DTSTART:20060305T164500Z
DTEND:20060305T180000Z
X-MICROSOFT-CDO-ALLDAYEVENT:FALSE
SUMMARY:March 8th\, 2006 Luchheon
DESCRIPTION:Carrabba's Italian Grill
X-ALT-DESC;FMTTYPE=text/html:Carrabba's Italian Grill
LOCATION:
UID:e.3209.261
SEQUENCE:3
DTSTAMP:20260420T182518Z
URL:https://business.stuartmartinchamber.org/events/details/march-8th-2006-luchheon-03-05-2006-261
END:VEVENT

END:VCALENDAR
