BEGIN:VCALENDAR
VERSION:2.0
PRODID:-//ChamberMaster//Event Calendar 2.0//EN
METHOD:PUBLISH
X-PUBLISHED-TTL:P3D
REFRESH-INTERVAL:P3D
CALSCALE:GREGORIAN
BEGIN:VEVENT
DTSTART:20070218T164500Z
DTEND:20070218T180000Z
X-MICROSOFT-CDO-ALLDAYEVENT:FALSE
SUMMARY:Mahoney Luncheon
DESCRIPTION:Mariner Sands CC
X-ALT-DESC;FMTTYPE=text/html:Mariner Sands CC
LOCATION:
UID:e.3209.291
SEQUENCE:3
DTSTAMP:20260420T112014Z
URL:https://business.stuartmartinchamber.org/events/details/mahoney-luncheon-02-18-2007-291
END:VEVENT

END:VCALENDAR
