BEGIN:VCALENDAR
VERSION:2.0
PRODID:-//ChamberMaster//Event Calendar 2.0//EN
METHOD:PUBLISH
X-PUBLISHED-TTL:P3D
REFRESH-INTERVAL:P3D
CALSCALE:GREGORIAN
BEGIN:VEVENT
DTSTART:20060612T154500Z
DTEND:20060612T170000Z
X-MICROSOFT-CDO-ALLDAYEVENT:FALSE
SUMMARY:June 14th\, 2006 Luncheon
DESCRIPTION:Outback Steak House
X-ALT-DESC;FMTTYPE=text/html:Outback Steak House
LOCATION:
UID:e.3209.251
SEQUENCE:3
DTSTAMP:20260420T060245Z
URL:https://business.stuartmartinchamber.org/events/details/june-14th-2006-luncheon-06-12-2006-251
END:VEVENT

END:VCALENDAR
