BEGIN:VCALENDAR
VERSION:2.0
PRODID:-//ChamberMaster//Event Calendar 2.0//EN
METHOD:PUBLISH
X-PUBLISHED-TTL:P3D
REFRESH-INTERVAL:P3D
CALSCALE:GREGORIAN
BEGIN:VEVENT
DTSTART:20070709T154500Z
DTEND:20070709T170000Z
X-MICROSOFT-CDO-ALLDAYEVENT:FALSE
SUMMARY:July 11 BREAKFAST
DESCRIPTION:Yacht & Country Club
X-ALT-DESC;FMTTYPE=text/html:Yacht & Country Club
LOCATION:
UID:e.3209.248
SEQUENCE:3
DTSTAMP:20260420T100032Z
URL:https://business.stuartmartinchamber.org/events/details/july-11-breakfast-07-09-2007-248
END:VEVENT

END:VCALENDAR
