BEGIN:VCALENDAR
VERSION:2.0
PRODID:-//ChamberMaster//Event Calendar 2.0//EN
METHOD:PUBLISH
X-PUBLISHED-TTL:P3D
REFRESH-INTERVAL:P3D
CALSCALE:GREGORIAN
BEGIN:VEVENT
DTSTART:20081129T164500Z
DTEND:20081208T180000Z
X-MICROSOFT-CDO-ALLDAYEVENT:FALSE
SUMMARY:December 10\, 2008 Luncheon
DESCRIPTION:Finz Waterfront Grill
X-ALT-DESC;FMTTYPE=text/html:Finz Waterfront Grill
LOCATION:
UID:e.3209.303
SEQUENCE:3
DTSTAMP:20260421T095855Z
URL:https://business.stuartmartinchamber.org/events/details/december-10-2008-luncheon-11-29-2008-303
END:VEVENT

END:VCALENDAR
