BEGIN:VCALENDAR
VERSION:2.0
PRODID:-//ChamberMaster//Event Calendar 2.0//EN
METHOD:PUBLISH
X-PUBLISHED-TTL:P3D
REFRESH-INTERVAL:P3D
CALSCALE:GREGORIAN
BEGIN:VEVENT
DTSTART:20211126T223000Z
DTEND:20211127T023000Z
X-MICROSOFT-CDO-ALLDAYEVENT:FALSE
SUMMARY:Christmas Carnival of Lights
DESCRIPTION:There will be an 800 foot walking tour of lights provided by the Fair Association\, accompanied by Ferris Wheel\, Carousel\, and other kids carnival rides. Santa?s Workshop will provide activities such as decorating ornaments\, writing letters to Santa\, pictures with Santa\, and other fun holiday games.\n\n \n\nFor additional information contact Jay Spicer\, Executive Director and Fair Manager.\n\n \n\nRegards\,\n\n \n\nJoe\n\n \n\nJay Spicer\n\nExecutive Director & Fair Manager\n\nMartin County Fair Association\n\nc) 772-631-2853\n\nw) 772-220-FAIR\n\nFair Runs Feb 11-19\, 2022
X-ALT-DESC;FMTTYPE=text/html:<span style="color:#2D3235\;"><span style="font-family:georgia\,serif\;"><span style="font-size:14.5pt\;">There will be an 800 foot walking tour of lights provided by the Fair Association\, accompanied by Ferris Wheel\, Carousel\, and other kids carnival rides. Santa?s Workshop will provide activities such as decorating ornaments\, writing letters to Santa\, pictures with Santa\, and other fun holiday games.</span></span></span><br>\n&nbsp\;<br>\n<span style="color:#2D3235\;"><span style="font-family:georgia\,serif\;"><span style="font-size:14.5pt\;">For additional information contact Jay Spicer\, Executive Director and Fair Manager.</span></span></span><br>\n&nbsp\;<br>\n<span style="color:#2D3235\;"><span style="font-family:georgia\,serif\;"><span style="font-size:14.5pt\;">Regards\,</span></span></span><br>\n&nbsp\;<br>\n<span style="color:#2D3235\;"><span style="font-family:georgia\,serif\;"><span style="font-size:14.5pt\;">Joe</span></span></span><br>\n&nbsp\;<br>\n<strong><span style="color:#2D3235\;"><span style="font-family:corbel\,sans-serif\;"><span style="font-size:13.5pt\;">Jay Spicer</span></span></span></strong><br>\n<span style="color:#2D3235\;"><span style="font-family:georgia\,serif\;"><span style="font-size:13.5pt\;">Executive Director &amp\; Fair Manager</span></span></span><br>\n<span style="color:#2D3235\;"><span style="font-family:georgia\,serif\;"><span style="font-size:13.5pt\;">Martin County Fair Association</span></span></span><br>\n<span style="color:#2D3235\;"><span style="font-family:georgia\,serif\;"><span style="font-size:13.5pt\;">c) 772-631-2853</span></span></span><br>\n<span style="color:#2D3235\;"><span style="font-family:georgia\,serif\;"><span style="font-size:13.5pt\;">w) 772-220-FAIR</span></span></span><br>\n<span style="color:#2D3235\;"><span style="font-family:georgia\,serif\;"><span style="font-size:13.5pt\;">Fair Runs Feb 11-19\, 2022&nbsp\;</span></span></span>
LOCATION:Martin County Fairgrounds 2616 S.E. Dixie Highway Stuart
UID:e.3209.8412
SEQUENCE:3
DTSTAMP:20260422T104124Z
URL:https://business.stuartmartinchamber.org/events/details/christmas-carnival-of-lights-8412
END:VEVENT

END:VCALENDAR
