BEGIN:VCALENDAR
VERSION:2.0
PRODID:-//ChamberMaster//Event Calendar 2.0//EN
METHOD:PUBLISH
X-PUBLISHED-TTL:P3D
REFRESH-INTERVAL:P3D
CALSCALE:GREGORIAN
BEGIN:VEVENT
DTSTART:20211117T123000Z
DTEND:20211117T133000Z
X-MICROSOFT-CDO-ALLDAYEVENT:FALSE
SUMMARY:Board Meeting
DESCRIPTION:
X-ALT-DESC;FMTTYPE=text/html:
LOCATION:Stuart/Martin County Chamber of Commerce 1650 S. Kanner Highway Stuart\, FL 34994
UID:e.3209.8333
SEQUENCE:3
DTSTAMP:20260422T102931Z
URL:https://business.stuartmartinchamber.org/events/details/board-meeting-8333
END:VEVENT

END:VCALENDAR
