BEGIN:VCALENDAR
VERSION:2.0
PRODID:-//ChamberMaster//Event Calendar 2.0//EN
METHOD:PUBLISH
X-PUBLISHED-TTL:P3D
REFRESH-INTERVAL:P3D
CALSCALE:GREGORIAN
BEGIN:VEVENT
DTSTART:20050808T154500Z
DTEND:20050808T170000Z
X-MICROSOFT-CDO-ALLDAYEVENT:FALSE
SUMMARY:August 10\, 2005 Luncheon
DESCRIPTION:Manero's
X-ALT-DESC;FMTTYPE=text/html:Manero's
LOCATION:
UID:e.3209.209
SEQUENCE:3
DTSTAMP:20260424T062509Z
URL:https://business.stuartmartinchamber.org/events/details/august-10-2005-luncheon-08-08-2005-209
END:VEVENT

END:VCALENDAR
