BEGIN:VCALENDAR
VERSION:2.0
PRODID:-//ChamberMaster//Event Calendar 2.0//EN
METHOD:PUBLISH
X-PUBLISHED-TTL:P3D
REFRESH-INTERVAL:P3D
CALSCALE:GREGORIAN
BEGIN:VEVENT
DTSTART:20080811T154500Z
DTEND:20080811T170000Z
X-MICROSOFT-CDO-ALLDAYEVENT:FALSE
SUMMARY:Aug 13\, 2008 Luncheon
DESCRIPTION:Sandhill Cove
X-ALT-DESC;FMTTYPE=text/html:Sandhill Cove
LOCATION:
UID:e.3209.208
SEQUENCE:3
DTSTAMP:20260422T053003Z
URL:https://business.stuartmartinchamber.org/events/details/aug-13-2008-luncheon-08-11-2008-208
END:VEVENT

END:VCALENDAR
