BEGIN:VCALENDAR
VERSION:2.0
PRODID:-//ChamberMaster//Event Calendar 2.0//EN
METHOD:PUBLISH
X-PUBLISHED-TTL:P3D
REFRESH-INTERVAL:P3D
CALSCALE:GREGORIAN
BEGIN:VEVENT
DTSTART:20060404T210000Z
DTEND:20060404T230000Z
X-MICROSOFT-CDO-ALLDAYEVENT:FALSE
SUMMARY:April 6th\, 2006 Collier Event
DESCRIPTION:
X-ALT-DESC;FMTTYPE=text/html:
LOCATION:
UID:e.3209.214
SEQUENCE:3
DTSTAMP:20260420T092432Z
URL:https://business.stuartmartinchamber.org/events/details/april-6th-2006-collier-event-04-04-2006-214
END:VEVENT

END:VCALENDAR
