BEGIN:VCALENDAR
VERSION:2.0
PRODID:-//ChamberMaster//Event Calendar 2.0//EN
METHOD:PUBLISH
X-PUBLISHED-TTL:P3D
REFRESH-INTERVAL:P3D
CALSCALE:GREGORIAN
BEGIN:VEVENT
DTSTART:20060417T154500Z
DTEND:20060417T170000Z
X-MICROSOFT-CDO-ALLDAYEVENT:FALSE
SUMMARY:April 19th\, 2006 Luncheon
DESCRIPTION:Yacht and Country Club
X-ALT-DESC;FMTTYPE=text/html:Yacht and Country Club
LOCATION:
UID:e.3209.200
SEQUENCE:3
DTSTAMP:20260420T071307Z
URL:https://business.stuartmartinchamber.org/events/details/april-19th-2006-luncheon-04-17-2006-200
END:VEVENT

END:VCALENDAR
