BEGIN:VCALENDAR
VERSION:2.0
PRODID:-//ChamberMaster//Event Calendar 2.0//EN
METHOD:PUBLISH
X-PUBLISHED-TTL:P3D
REFRESH-INTERVAL:P3D
CALSCALE:GREGORIAN
BEGIN:VEVENT
DTSTART:20211110T223000Z
DTEND:20211110T233000Z
X-MICROSOFT-CDO-ALLDAYEVENT:FALSE
SUMMARY:American Red Cross Virtual Open House
DESCRIPTION:Forecast calls for a hero now. And you're up! Join us for our next Virtual Volunteer Open House to learn how to become part of our team of compassionate volunteers. It's through the efforts of ordinary 'everyday heroes' that we can do extraordinary things and now is a perfect time to get trained and be prepared to help in your community!
X-ALT-DESC;FMTTYPE=text/html:Forecast calls for a hero now. And you&#39\;re up! Join us for our next Virtual Volunteer Open House to learn how to become part of our team of compassionate volunteers. It&rsquo\;s through the efforts of ordinary &#39\;everyday heroes&rsquo\; that we can do extraordinary things and now is a perfect time to get trained and be prepared to help in your community!
LOCATION:Virtually hosted\; Microsoft Teams videoconference
UID:e.3209.9468
SEQUENCE:3
DTSTAMP:20260422T104118Z
URL:https://business.stuartmartinchamber.org/events/details/american-red-cross-virtual-open-house-11-10-2021-9468
END:VEVENT

END:VCALENDAR
