BEGIN:VCALENDAR
VERSION:2.0
PRODID:-//ChamberMaster//Event Calendar 2.0//EN
METHOD:PUBLISH
X-PUBLISHED-TTL:P3D
REFRESH-INTERVAL:P3D
CALSCALE:GREGORIAN
BEGIN:VEVENT
DTSTART:20261001T123000Z
DTEND:20261001T143000Z
X-MICROSOFT-CDO-ALLDAYEVENT:FALSE
SUMMARY:2026 Engagement Workshop
DESCRIPTION:
X-ALT-DESC;FMTTYPE=text/html:
LOCATION:The Stuart Martin County Chamber of Commerce
UID:e.3209.19394
SEQUENCE:3
DTSTAMP:20260422T070838Z
URL:https://business.stuartmartinchamber.org/events/details/2026-engagement-workshop-10-01-2026-19394
END:VEVENT

END:VCALENDAR
