BEGIN:VCALENDAR
VERSION:2.0
PRODID:-//ChamberMaster//Event Calendar 2.0//EN
METHOD:PUBLISH
X-PUBLISHED-TTL:P3D
REFRESH-INTERVAL:P3D
CALSCALE:GREGORIAN
BEGIN:VEVENT
DTSTART:20070212T050000Z
DTEND:20070214T050000Z
X-MICROSOFT-CDO-ALLDAYEVENT:FALSE
SUMMARY:2007 TC Legislative Conference
DESCRIPTION:Tallahassee
X-ALT-DESC;FMTTYPE=text/html:Tallahassee
LOCATION:
UID:e.3209.5
SEQUENCE:3
DTSTAMP:20260421T082316Z
URL:https://business.stuartmartinchamber.org/events/details/2007-tc-legislative-conference-02-12-2007-5
END:VEVENT

END:VCALENDAR
