BEGIN:VCALENDAR
VERSION:2.0
PRODID:-//ChamberMaster//Event Calendar 2.0//EN
METHOD:PUBLISH
X-PUBLISHED-TTL:P3D
REFRESH-INTERVAL:P3D
CALSCALE:GREGORIAN
BEGIN:VEVENT
DTSTART:20060914T223000Z
DTEND:20060915T033000Z
X-MICROSOFT-CDO-ALLDAYEVENT:FALSE
SUMMARY:2006 Dinner Dance
DESCRIPTION:Mariner Sands Country Club
X-ALT-DESC;FMTTYPE=text/html:Mariner Sands Country Club
LOCATION:
UID:e.3209.69
SEQUENCE:3
DTSTAMP:20260420T110824Z
URL:https://business.stuartmartinchamber.org/events/details/2006-dinner-dance-09-14-2006-69
END:VEVENT

END:VCALENDAR
