BEGIN:VCALENDAR
VERSION:2.0
PRODID:-//ChamberMaster//Event Calendar 2.0//EN
METHOD:PUBLISH
X-PUBLISHED-TTL:P3D
REFRESH-INTERVAL:P3D
CALSCALE:GREGORIAN
BEGIN:VEVENT
DTSTART:20050716T220000Z
DTEND:20050923T030000Z
X-MICROSOFT-CDO-ALLDAYEVENT:FALSE
SUMMARY:2005 Dinner Dance
DESCRIPTION:Mariner Sands Country Club
X-ALT-DESC;FMTTYPE=text/html:Mariner Sands Country Club
LOCATION:
UID:e.3209.66
SEQUENCE:3
DTSTAMP:20260424T092009Z
URL:https://business.stuartmartinchamber.org/events/details/2005-dinner-dance-07-16-2005-66
END:VEVENT

END:VCALENDAR
