BEGIN:VCALENDAR
VERSION:2.0
PRODID:-//ChamberMaster//Event Calendar 2.0//EN
METHOD:PUBLISH
X-PUBLISHED-TTL:P3D
REFRESH-INTERVAL:P3D
CALSCALE:GREGORIAN
BEGIN:VEVENT
DTSTART:20041001T040000Z
DTEND:20050930T040000Z
X-MICROSOFT-CDO-ALLDAYEVENT:FALSE
SUMMARY:2002-2003 WEBSITE PRESENCE
DESCRIPTION:
X-ALT-DESC;FMTTYPE=text/html:
LOCATION:
UID:e.3209.52
SEQUENCE:3
DTSTAMP:20260423T233822Z
URL:https://business.stuartmartinchamber.org/events/details/2002-2003-website-presence-10-01-2004-52
END:VEVENT

END:VCALENDAR
